BEGIN:VCALENDAR
VERSION:2.0
PRODID:-//aChange Charitable Foundation - ECPv5.14.1//NONSGML v1.0//EN
CALSCALE:GREGORIAN
METHOD:PUBLISH
X-WR-CALNAME:aChange Charitable Foundation
X-ORIGINAL-URL:https://achangefoundation.org
X-WR-CALDESC:Events for aChange Charitable Foundation
BEGIN:VTIMEZONE
TZID:UTC
BEGIN:STANDARD
TZOFFSETFROM:+0000
TZOFFSETTO:+0000
TZNAME:UTC
DTSTART:20170101T000000
END:STANDARD
END:VTIMEZONE
BEGIN:VEVENT
DTSTART;TZID=UTC:20170901T000000
DTEND;TZID=UTC:20170901T000000
DTSTAMP:20260420T033929
CREATED:20170118T085051Z
LAST-MODIFIED:20170206T104827Z
UID:383-1504224000-1504224000@achangefoundation.org
SUMMARY:Is a Nonprofit Internship the Best Choice for You?
DESCRIPTION:Etiam vitae leo et diam pellentesque porta. Sed eleifend ultricies risus\, vel rutrum erat commodo ut. Praesent finibus congue euismod. Nullam scelerisque massa vel augue placerat\, a tempor sem egestas. Curabitur placerat finibus lacus. Quisque at vehicula magna\, quis fringilla sapien. Ut interdum dictum ultricies. Aliquam facilisis purus non dui scelerisque\, bibendum vestibulum risus fermentum. Nam eget efficitur felis. Sed sollicitudin justo ut libero viverra\, sed efficitur erat finibus. Mauris nunc neque\, elementum id dignissim ut\, posuere sit amet dolor. Aliquam turpis neque\, mollis eu pharetra et\, placerat et arcu. Proin orci eros\, dapibus in auctor ac\, elementum a justo. Fusce varius eu nunc iaculis auctor. \nVivamus posuere tellus ac fringilla maximus. Maecenas ut diam nibh. Suspendisse venenatis et dolor sit amet malesuada. Cras a nisl in purus vestibulum facilisis. Aenean blandit\, lectus in dapibus interdum\, magna mauris fermentum risus\, nec iaculis ex quam ultricies tellus. Sed nec convallis ex\, nec tristique nisi. Aenean semper tempor vehicula. Duis id mi tristique\, pulvinar neque at\, lobortis tortor.
URL:https://achangefoundation.org/event/is-a-nonprofit-internship-the-best-choice-for-you/
LOCATION:Save Life Center\, 45 Montgomery St.\, New York\, 10118\, United States
CATEGORIES:Events
ATTACH;FMTTYPE=image/jpeg:https://achangefoundation.org/wp-content/uploads/2017/01/event-1.jpg
ORGANIZER;CN="Cindy%20Jefferson":MAILTO:info@yourwebsite.com
END:VEVENT
END:VCALENDAR